BEGIN:VCALENDAR
VERSION:2.0
PRODID:-//Craftsman Wood Grille &amp; Tap House - ECPv6.15.18//NONSGML v1.0//EN
CALSCALE:GREGORIAN
METHOD:PUBLISH
X-ORIGINAL-URL:https://craftsmanwoodgrilletaphouse.com
X-WR-CALDESC:Events for Craftsman Wood Grille &amp; Tap House
REFRESH-INTERVAL;VALUE=DURATION:PT1H
X-Robots-Tag:noindex
X-PUBLISHED-TTL:PT1H
BEGIN:VTIMEZONE
TZID:America/New_York
BEGIN:DAYLIGHT
TZOFFSETFROM:-0500
TZOFFSETTO:-0400
TZNAME:EDT
DTSTART:20220313T070000
END:DAYLIGHT
BEGIN:STANDARD
TZOFFSETFROM:-0400
TZOFFSETTO:-0500
TZNAME:EST
DTSTART:20221106T060000
END:STANDARD
BEGIN:DAYLIGHT
TZOFFSETFROM:-0500
TZOFFSETTO:-0400
TZNAME:EDT
DTSTART:20230312T070000
END:DAYLIGHT
BEGIN:STANDARD
TZOFFSETFROM:-0400
TZOFFSETTO:-0500
TZNAME:EST
DTSTART:20231105T060000
END:STANDARD
BEGIN:DAYLIGHT
TZOFFSETFROM:-0500
TZOFFSETTO:-0400
TZNAME:EDT
DTSTART:20240310T070000
END:DAYLIGHT
BEGIN:STANDARD
TZOFFSETFROM:-0400
TZOFFSETTO:-0500
TZNAME:EST
DTSTART:20241103T060000
END:STANDARD
END:VTIMEZONE
BEGIN:VEVENT
DTSTART;TZID=America/New_York:20230831T180000
DTEND;TZID=America/New_York:20230831T180000
DTSTAMP:20260422T045706
CREATED:20230824T171946Z
LAST-MODIFIED:20230824T171946Z
UID:433-1693504800-1693504800@craftsmanwoodgrilletaphouse.com
SUMMARY:THE SWOONERS
DESCRIPTION:Since late 2010\, the Swooners have been swooning fans into a blissful state of musical ecstasy with lush vocal harmonies\, virtuosic solos\, and killer dance grooves. They aim to only perform what they consider to be the best music from throughout the ages and really know how to throw a party! These cool cats are the crème de la crème as far as musicality and taste and will leave you wanting more!
URL:https://craftsmanwoodgrilletaphouse.com/event/the-swooners/
ATTACH;FMTTYPE=image/jpeg:https://craftsmanwoodgrilletaphouse.com/wp-content/uploads/swooners.jpg
END:VEVENT
END:VCALENDAR