BEGIN:VCALENDAR
VERSION:2.0
PRODID:-//Craftsman Wood Grille &amp; Tap House - ECPv6.15.18//NONSGML v1.0//EN
CALSCALE:GREGORIAN
METHOD:PUBLISH
X-ORIGINAL-URL:https://craftsmanwoodgrilletaphouse.com
X-WR-CALDESC:Events for Craftsman Wood Grille &amp; Tap House
REFRESH-INTERVAL;VALUE=DURATION:PT1H
X-Robots-Tag:noindex
X-PUBLISHED-TTL:PT1H
BEGIN:VTIMEZONE
TZID:America/New_York
BEGIN:DAYLIGHT
TZOFFSETFROM:-0500
TZOFFSETTO:-0400
TZNAME:EDT
DTSTART:20230312T070000
END:DAYLIGHT
BEGIN:STANDARD
TZOFFSETFROM:-0400
TZOFFSETTO:-0500
TZNAME:EST
DTSTART:20231105T060000
END:STANDARD
BEGIN:DAYLIGHT
TZOFFSETFROM:-0500
TZOFFSETTO:-0400
TZNAME:EDT
DTSTART:20240310T070000
END:DAYLIGHT
BEGIN:STANDARD
TZOFFSETFROM:-0400
TZOFFSETTO:-0500
TZNAME:EST
DTSTART:20241103T060000
END:STANDARD
BEGIN:DAYLIGHT
TZOFFSETFROM:-0500
TZOFFSETTO:-0400
TZNAME:EDT
DTSTART:20250309T070000
END:DAYLIGHT
BEGIN:STANDARD
TZOFFSETFROM:-0400
TZOFFSETTO:-0500
TZNAME:EST
DTSTART:20251102T060000
END:STANDARD
END:VTIMEZONE
BEGIN:VEVENT
DTSTART;TZID=America/New_York:20240613T180000
DTEND;TZID=America/New_York:20240613T180000
DTSTAMP:20260420T133903
CREATED:20240501T192900Z
LAST-MODIFIED:20240802T172516Z
UID:562-1718301600-1718301600@craftsmanwoodgrilletaphouse.com
SUMMARY:CAM CARUSO
DESCRIPTION:Catch singer-songwriter Cam Caruso live at the Craftsman Wood Grille! This talented musician from Oswego\, NY has a vast repertoire of cover songs spanning multiple genres\, from pop and rock to folk and country. He also works on his original music\, and has even won a SAMMY award for Singer/Songwriter. You won’t want to miss this versatile performer!w
URL:https://craftsmanwoodgrilletaphouse.com/event/cam-caruso/
ATTACH;FMTTYPE=image/jpeg:https://craftsmanwoodgrilletaphouse.com/wp-content/uploads/cam-caruso.jpg
END:VEVENT
END:VCALENDAR