BEGIN:VCALENDAR
VERSION:2.0
PRODID:-//Craftsman Wood Grille &amp; Tap House - ECPv6.15.18//NONSGML v1.0//EN
CALSCALE:GREGORIAN
METHOD:PUBLISH
X-WR-CALNAME:Craftsman Wood Grille &amp; Tap House
X-ORIGINAL-URL:https://craftsmanwoodgrilletaphouse.com
X-WR-CALDESC:Events for Craftsman Wood Grille &amp; Tap House
REFRESH-INTERVAL;VALUE=DURATION:PT1H
X-Robots-Tag:noindex
X-PUBLISHED-TTL:PT1H
BEGIN:VTIMEZONE
TZID:UTC
BEGIN:STANDARD
TZOFFSETFROM:+0000
TZOFFSETTO:+0000
TZNAME:UTC
DTSTART:20220101T000000
END:STANDARD
END:VTIMEZONE
BEGIN:VEVENT
DTSTART;TZID=UTC:20230518T180000
DTEND;TZID=UTC:20230518T180000
DTSTAMP:20260420T224732
CREATED:20230411T020524Z
LAST-MODIFIED:20230411T020709Z
UID:316-1684432800-1684432800@craftsmanwoodgrilletaphouse.com
SUMMARY:CRUSHING MIDNIGHT
DESCRIPTION:Watch Crushing Midnight live at the Craftsman Wood Grille & Tap House starting at 6pm playing music centered around Classic Rock that also ventures into 90’s Rock\, Blues\, Country and even Pop Hits!
URL:https://craftsmanwoodgrilletaphouse.com/event/crushing-midnight/
ATTACH;FMTTYPE=image/jpeg:https://craftsmanwoodgrilletaphouse.com/wp-content/uploads/crushing_midnight.jpg
END:VEVENT
END:VCALENDAR