BEGIN:VCALENDAR
VERSION:2.0
PRODID:-//Craftsman Wood Grille &amp; Tap House - ECPv6.15.18//NONSGML v1.0//EN
CALSCALE:GREGORIAN
METHOD:PUBLISH
X-ORIGINAL-URL:https://craftsmanwoodgrilletaphouse.com
X-WR-CALDESC:Events for Craftsman Wood Grille &amp; Tap House
REFRESH-INTERVAL;VALUE=DURATION:PT1H
X-Robots-Tag:noindex
X-PUBLISHED-TTL:PT1H
BEGIN:VTIMEZONE
TZID:UTC
BEGIN:STANDARD
TZOFFSETFROM:+0000
TZOFFSETTO:+0000
TZNAME:UTC
DTSTART:20240101T000000
END:STANDARD
END:VTIMEZONE
BEGIN:VTIMEZONE
TZID:America/New_York
BEGIN:DAYLIGHT
TZOFFSETFROM:-0500
TZOFFSETTO:-0400
TZNAME:EDT
DTSTART:20240310T070000
END:DAYLIGHT
BEGIN:STANDARD
TZOFFSETFROM:-0400
TZOFFSETTO:-0500
TZNAME:EST
DTSTART:20241103T060000
END:STANDARD
BEGIN:DAYLIGHT
TZOFFSETFROM:-0500
TZOFFSETTO:-0400
TZNAME:EDT
DTSTART:20250309T070000
END:DAYLIGHT
BEGIN:STANDARD
TZOFFSETFROM:-0400
TZOFFSETTO:-0500
TZNAME:EST
DTSTART:20251102T060000
END:STANDARD
BEGIN:DAYLIGHT
TZOFFSETFROM:-0500
TZOFFSETTO:-0400
TZNAME:EDT
DTSTART:20260308T070000
END:DAYLIGHT
BEGIN:STANDARD
TZOFFSETFROM:-0400
TZOFFSETTO:-0500
TZNAME:EST
DTSTART:20261101T060000
END:STANDARD
END:VTIMEZONE
BEGIN:VEVENT
DTSTART;TZID=UTC:20250807T180000
DTEND;TZID=UTC:20250807T210000
DTSTAMP:20260420T133949
CREATED:20240802T171519Z
LAST-MODIFIED:20250704T122152Z
UID:585-1754589600-1754600400@craftsmanwoodgrilletaphouse.com
SUMMARY:JUST JOE
DESCRIPTION:Joe Altier live at the Craftsman Wood Grille & Tap House – starting at 6pm! Joe has been singing and pounding piano keys since the age of 5 when his Mom started teaching him music in smalltown Central Square\, NY. Embracing everything from Frank Sinatra and Otis Redding to Garth Brooks and Metallica Joe’s musicality and repertoire of over 4000 songs on the ready is simply astounding.
URL:https://craftsmanwoodgrilletaphouse.com/event/just-joe-live-2/
ATTACH;FMTTYPE=image/jpeg:https://craftsmanwoodgrilletaphouse.com/wp-content/uploads/Just-Joe-Live.jpg
END:VEVENT
BEGIN:VEVENT
DTSTART;TZID=America/New_York:20250814T180000
DTEND;TZID=America/New_York:20250814T210000
DTSTAMP:20260420T133949
CREATED:20230418T224729Z
LAST-MODIFIED:20250821T142950Z
UID:339-1755194400-1755205200@craftsmanwoodgrilletaphouse.com
SUMMARY:EJ GRIDLEY
DESCRIPTION:  \n  \n  \n  \nJoin us at 6pm for EJ Gridley live on acoustic guitar\, bringing you all your favorite rock hits of the ’70s through today with a touch of country!
URL:https://craftsmanwoodgrilletaphouse.com/event/ej-gridley/
ATTACH;FMTTYPE=image/jpeg:https://craftsmanwoodgrilletaphouse.com/wp-content/uploads/EJ-Gridley.jpg
END:VEVENT
BEGIN:VEVENT
DTSTART;TZID=America/New_York:20250821T180000
DTEND;TZID=America/New_York:20250821T210000
DTSTAMP:20260420T133949
CREATED:20250428T154351Z
LAST-MODIFIED:20250704T122522Z
UID:856-1755799200-1755810000@craftsmanwoodgrilletaphouse.com
SUMMARY:SYDNEY IRVING
DESCRIPTION:Hailing from the vibrant city of Syracuse\, New York\, Sydney Irving emerged as a promising musician at a remarkably young age. Born and raised in the heart of the Empire State\, Sydney’s journey into the world of music began with inspiration drawn from legends like Taylor Swift\, whose heartfelt storytelling resonated deeply with her. However\, her musical evolution found its guiding light in the iconic Tom Petty\, whose ability to weave personal experiences into compelling songs left an indelible mark on her artistry.
URL:https://craftsmanwoodgrilletaphouse.com/event/sydney-irving-2/
ATTACH;FMTTYPE=image/jpeg:https://craftsmanwoodgrilletaphouse.com/wp-content/uploads/sydney-irving.jpg
END:VEVENT
END:VCALENDAR