BEGIN:VCALENDAR
VERSION:2.0
PRODID:-//Craftsman Wood Grille &amp; Tap House - ECPv6.15.18//NONSGML v1.0//EN
CALSCALE:GREGORIAN
METHOD:PUBLISH
X-ORIGINAL-URL:https://craftsmanwoodgrilletaphouse.com
X-WR-CALDESC:Events for Craftsman Wood Grille &amp; Tap House
REFRESH-INTERVAL;VALUE=DURATION:PT1H
X-Robots-Tag:noindex
X-PUBLISHED-TTL:PT1H
BEGIN:VTIMEZONE
TZID:UTC
BEGIN:STANDARD
TZOFFSETFROM:+0000
TZOFFSETTO:+0000
TZNAME:UTC
DTSTART:20240101T000000
END:STANDARD
END:VTIMEZONE
BEGIN:VTIMEZONE
TZID:America/New_York
BEGIN:DAYLIGHT
TZOFFSETFROM:-0500
TZOFFSETTO:-0400
TZNAME:EDT
DTSTART:20240310T070000
END:DAYLIGHT
BEGIN:STANDARD
TZOFFSETFROM:-0400
TZOFFSETTO:-0500
TZNAME:EST
DTSTART:20241103T060000
END:STANDARD
BEGIN:DAYLIGHT
TZOFFSETFROM:-0500
TZOFFSETTO:-0400
TZNAME:EDT
DTSTART:20250309T070000
END:DAYLIGHT
BEGIN:STANDARD
TZOFFSETFROM:-0400
TZOFFSETTO:-0500
TZNAME:EST
DTSTART:20251102T060000
END:STANDARD
BEGIN:DAYLIGHT
TZOFFSETFROM:-0500
TZOFFSETTO:-0400
TZNAME:EDT
DTSTART:20260308T070000
END:DAYLIGHT
BEGIN:STANDARD
TZOFFSETFROM:-0400
TZOFFSETTO:-0500
TZNAME:EST
DTSTART:20261101T060000
END:STANDARD
END:VTIMEZONE
BEGIN:VEVENT
DTSTART;TZID=UTC:20250807T180000
DTEND;TZID=UTC:20250807T210000
DTSTAMP:20260420T102047
CREATED:20240802T171519Z
LAST-MODIFIED:20250704T122152Z
UID:585-1754589600-1754600400@craftsmanwoodgrilletaphouse.com
SUMMARY:JUST JOE
DESCRIPTION:Joe Altier live at the Craftsman Wood Grille & Tap House – starting at 6pm! Joe has been singing and pounding piano keys since the age of 5 when his Mom started teaching him music in smalltown Central Square\, NY. Embracing everything from Frank Sinatra and Otis Redding to Garth Brooks and Metallica Joe’s musicality and repertoire of over 4000 songs on the ready is simply astounding.
URL:https://craftsmanwoodgrilletaphouse.com/event/just-joe-live-2/
ATTACH;FMTTYPE=image/jpeg:https://craftsmanwoodgrilletaphouse.com/wp-content/uploads/Just-Joe-Live.jpg
END:VEVENT
BEGIN:VEVENT
DTSTART;TZID=UTC:20250904T180000
DTEND;TZID=UTC:20250904T210000
DTSTAMP:20260420T102047
CREATED:20250429T121225Z
LAST-MODIFIED:20250704T123021Z
UID:874-1757008800-1757019600@craftsmanwoodgrilletaphouse.com
SUMMARY:TRAVIS ROCCO
DESCRIPTION:Mark Nanni is a full-time\, professional musician based out of Syracuse\, NY\, playing 225 shows per year. \nHe is a solo multi-instrumentalist\, accompanying his vocal with piano\, accordion\, and guitar. This allows him to play a wide variety of genres to suit any venue or vibe.
URL:https://craftsmanwoodgrilletaphouse.com/event/travis-rocco-4/
ATTACH;FMTTYPE=image/jpeg:https://craftsmanwoodgrilletaphouse.com/wp-content/uploads/travis-rocco2.jpg
END:VEVENT
BEGIN:VEVENT
DTSTART;TZID=UTC:20251016T180000
DTEND;TZID=UTC:20251016T210000
DTSTAMP:20260420T102047
CREATED:20250502T115746Z
LAST-MODIFIED:20250704T123121Z
UID:893-1760637600-1760648400@craftsmanwoodgrilletaphouse.com
SUMMARY:CAM CARUSO
DESCRIPTION:Catch singer-songwriter Cam Caruso live at the Craftsman Wood Grille! This talented musician from Oswego\, NY has a vast repertoire of cover songs spanning multiple genres\, from pop and rock to folk and country. He also works on his original music\, and has even won a SAMMY award for Singer/Songwriter. You won’t want to miss this versatile performer!
URL:https://craftsmanwoodgrilletaphouse.com/event/cam-caruso-2/
ATTACH;FMTTYPE=image/jpeg:https://craftsmanwoodgrilletaphouse.com/wp-content/uploads/cam-caruso.jpg
END:VEVENT
BEGIN:VEVENT
DTSTART;TZID=America/New_York:20251023T180000
DTEND;TZID=America/New_York:20251023T210000
DTSTAMP:20260420T102047
CREATED:20240313T162825Z
LAST-MODIFIED:20251006T143303Z
UID:519-1761242400-1761253200@craftsmanwoodgrilletaphouse.com
SUMMARY:THE NOISY BOYS
DESCRIPTION:  \n  \nSince 1992 Chris Krupa & Terry Clifton have played over 4000 shows together in 15 different states. Throughout the Northeast they have shared their unique blend of acoustic covers with hundreds of thousands of people. Chris & Terry began performing together in the summer of 1992 where they met as undergraduates at LeMoyne College in Syracuse\, New York. Their repertoire includes something for everyone with covers by contemporary artists such as Dave Matthews\, Pearl Jam and U2\, as well as older favorites from The Beatles\, Led Zeppelin\, The Doors and everything in between. With Chris’ warm vocal melodies and Terry’s mastery of the acoustic guitar\, along with a quick witted and an entertaining fast paced show\, they have been on tour and entertaining for over three decades together. Chris & Terry truly provide music and entertainment that everyone can appreciate and enjoy.
URL:https://craftsmanwoodgrilletaphouse.com/event/the-noisy-boys/
ATTACH;FMTTYPE=image/jpeg:https://craftsmanwoodgrilletaphouse.com/wp-content/uploads/the-noisy-boys.jpg
END:VEVENT
END:VCALENDAR